BEGIN:VCALENDAR
VERSION:2.0
PRODID:-//Appel Farm Arts &amp; Music Center - ECPv6.14.2//NONSGML v1.0//EN
CALSCALE:GREGORIAN
METHOD:PUBLISH
X-WR-CALNAME:Appel Farm Arts &amp; Music Center
X-ORIGINAL-URL:https://appelfarm.org
X-WR-CALDESC:Events for Appel Farm Arts &amp; Music Center
REFRESH-INTERVAL;VALUE=DURATION:PT1H
X-Robots-Tag:noindex
X-PUBLISHED-TTL:PT1H
BEGIN:VTIMEZONE
TZID:America/New_York
BEGIN:DAYLIGHT
TZOFFSETFROM:-0500
TZOFFSETTO:-0400
TZNAME:EDT
DTSTART:20250309T070000
END:DAYLIGHT
BEGIN:STANDARD
TZOFFSETFROM:-0400
TZOFFSETTO:-0500
TZNAME:EST
DTSTART:20251102T060000
END:STANDARD
END:VTIMEZONE
BEGIN:VEVENT
DTSTART;TZID=America/New_York:20251025T140000
DTEND;TZID=America/New_York:20251025T180000
DTSTAMP:20260421T004801
CREATED:20250906T035145Z
LAST-MODIFIED:20250908T180041Z
UID:9731-1761400800-1761415200@appelfarm.org
SUMMARY:Artober Open House
DESCRIPTION:People of all ages are welcome to this FREE event! The day will include live music on our Grove Stage; craft vendors from throughout the region; a variety of yummy eats from food trucks\, and beer and wine by local producers. Appel Farm teaching artists will lead art making workshops for all ages\, and a few more surprises are in store!
URL:https://appelfarm.org/tribe-events/artober-open-house/
LOCATION:Appel Farm Arts and Music Center\, 457 Shirley Rd\, Elmer\, New Jersey\, 08318\, United States
ATTACH;FMTTYPE=image/jpeg:https://appelfarm.org/wp-content/uploads/2023/06/Artober-1-scaled.jpg
END:VEVENT
BEGIN:VEVENT
DTSTART;TZID=America/New_York:20251025T130000
DTEND;TZID=America/New_York:20251025T150000
DTSTAMP:20260421T004801
CREATED:20250904T135119Z
LAST-MODIFIED:20250904T152845Z
UID:9678-1761397200-1761404400@appelfarm.org
SUMMARY:October Camp Tour
DESCRIPTION:People of all ages are welcome to this FREE event! The day will include live music on our Grove Stage; craft vendors from throughout the region; a variety of yummy eats from food trucks\, and beer and wine by local producers. Appel Farm teaching artists will lead art making workshops for all ages\, and a few more surprises are in store!
URL:https://appelfarm.org/tribe-events/october-camp-tour/
LOCATION:New Jersey
CATEGORIES:Camp Tours
ATTACH;FMTTYPE=image/png:https://appelfarm.org/wp-content/uploads/2024/09/CAMP-TOUR-1-2.png
END:VEVENT
BEGIN:VEVENT
DTSTART;TZID=America/New_York:20251008T183000
DTEND;TZID=America/New_York:20251008T203000
DTSTAMP:20260421T004801
CREATED:20250910T182558Z
LAST-MODIFIED:20250910T183529Z
UID:9809-1759948200-1759955400@appelfarm.org
SUMMARY:Macrame & Sip
DESCRIPTION:People of all ages are welcome to this FREE event! The day will include live music on our Grove Stage; craft vendors from throughout the region; a variety of yummy eats from food trucks\, and beer and wine by local producers. Appel Farm teaching artists will lead art making workshops for all ages\, and a few more surprises are in store!
URL:https://appelfarm.org/tribe-events/macrame-sip/
LOCATION:Appel Farm Arts and Music Center\, 457 Shirley Rd\, Elmer\, New Jersey\, 08318\, United States
CATEGORIES:Arts Labs for Adults
ATTACH;FMTTYPE=image/jpeg:https://appelfarm.org/wp-content/uploads/2023/06/IMG_9471-e1735832132803.jpg
END:VEVENT
END:VCALENDAR