BEGIN:VCALENDAR
VERSION:2.0
PRODID:-//Appel Farm Arts &amp; Music Center - ECPv6.14.2//NONSGML v1.0//EN
CALSCALE:GREGORIAN
METHOD:PUBLISH
X-ORIGINAL-URL:https://appelfarm.org
X-WR-CALDESC:Events for Appel Farm Arts &amp; Music Center
REFRESH-INTERVAL;VALUE=DURATION:PT1H
X-Robots-Tag:noindex
X-PUBLISHED-TTL:PT1H
BEGIN:VTIMEZONE
TZID:America/New_York
BEGIN:DAYLIGHT
TZOFFSETFROM:-0500
TZOFFSETTO:-0400
TZNAME:EDT
DTSTART:20250309T070000
END:DAYLIGHT
BEGIN:STANDARD
TZOFFSETFROM:-0400
TZOFFSETTO:-0500
TZNAME:EST
DTSTART:20251102T060000
END:STANDARD
BEGIN:DAYLIGHT
TZOFFSETFROM:-0500
TZOFFSETTO:-0400
TZNAME:EDT
DTSTART:20260308T070000
END:DAYLIGHT
BEGIN:STANDARD
TZOFFSETFROM:-0400
TZOFFSETTO:-0500
TZNAME:EST
DTSTART:20261101T060000
END:STANDARD
END:VTIMEZONE
BEGIN:VEVENT
DTSTART;TZID=America/New_York:20260416T090000
DTEND;TZID=America/New_York:20260416T130000
DTSTAMP:20260420T042238
CREATED:20251006T160015Z
LAST-MODIFIED:20251006T160015Z
UID:9895-1776330000-1776344400@appelfarm.org
SUMMARY:Gloucester County Teen Arts Festival
DESCRIPTION:People of all ages are welcome to this FREE event! The day will include live music on our Grove Stage; craft vendors from throughout the region; a variety of yummy eats from food trucks\, and beer and wine by local producers. Appel Farm teaching artists will lead art making workshops for all ages\, and a few more surprises are in store!
URL:https://appelfarm.org/tribe-events/gloucester-county-teen-arts-festival/
LOCATION:Appel Farm Arts and Music Center\, 457 Shirley Rd\, Elmer\, New Jersey\, 08318\, United States
CATEGORIES:Teen Arts
ATTACH;FMTTYPE=image/jpeg:https://appelfarm.org/wp-content/uploads/2025/10/MG_4351-scaled.jpg
END:VEVENT
BEGIN:VEVENT
DTSTART;TZID=America/New_York:20260415T090000
DTEND;TZID=America/New_York:20260415T130000
DTSTAMP:20260420T042239
CREATED:20251006T155657Z
LAST-MODIFIED:20251006T155657Z
UID:9890-1776243600-1776258000@appelfarm.org
SUMMARY:Salem County Teen Arts Festival
DESCRIPTION:People of all ages are welcome to this FREE event! The day will include live music on our Grove Stage; craft vendors from throughout the region; a variety of yummy eats from food trucks\, and beer and wine by local producers. Appel Farm teaching artists will lead art making workshops for all ages\, and a few more surprises are in store!
URL:https://appelfarm.org/tribe-events/salem-county-teen-arts-festival/
LOCATION:Appel Farm Arts and Music Center\, 457 Shirley Rd\, Elmer\, New Jersey\, 08318\, United States
CATEGORIES:Teen Arts
ATTACH;FMTTYPE=image/heic:https://appelfarm.org/wp-content/uploads/2025/10/IMG_2977-scaled.jpg
END:VEVENT
BEGIN:VEVENT
DTSTART;TZID=America/New_York:20260404T130000
DTEND;TZID=America/New_York:20260404T150000
DTSTAMP:20260420T042239
CREATED:20250904T153017Z
LAST-MODIFIED:20250904T153017Z
UID:9691-1775307600-1775314800@appelfarm.org
SUMMARY:April Camp Tour
DESCRIPTION:People of all ages are welcome to this FREE event! The day will include live music on our Grove Stage; craft vendors from throughout the region; a variety of yummy eats from food trucks\, and beer and wine by local producers. Appel Farm teaching artists will lead art making workshops for all ages\, and a few more surprises are in store!
URL:https://appelfarm.org/tribe-events/april-camp-tour/
LOCATION:New Jersey
CATEGORIES:Camp Tours
ATTACH;FMTTYPE=image/png:https://appelfarm.org/wp-content/uploads/2024/09/CAMP-TOUR-1-3.png
END:VEVENT
BEGIN:VEVENT
DTSTART;TZID=America/New_York:20260307T130000
DTEND;TZID=America/New_York:20260307T150000
DTSTAMP:20260420T042239
CREATED:20250904T152934Z
LAST-MODIFIED:20250904T152934Z
UID:9689-1772888400-1772895600@appelfarm.org
SUMMARY:March Camp Tour
DESCRIPTION:People of all ages are welcome to this FREE event! The day will include live music on our Grove Stage; craft vendors from throughout the region; a variety of yummy eats from food trucks\, and beer and wine by local producers. Appel Farm teaching artists will lead art making workshops for all ages\, and a few more surprises are in store!
URL:https://appelfarm.org/tribe-events/march-camp-tour/
LOCATION:New Jersey
CATEGORIES:Camp Tours
ATTACH;FMTTYPE=image/png:https://appelfarm.org/wp-content/uploads/2024/09/CAMP-TOUR-1-4.png
END:VEVENT
BEGIN:VEVENT
DTSTART;TZID=America/New_York:20260117T130000
DTEND;TZID=America/New_York:20260117T143000
DTSTAMP:20260420T042239
CREATED:20250904T153054Z
LAST-MODIFIED:20250904T153054Z
UID:9685-1768654800-1768660200@appelfarm.org
SUMMARY:Virtual Open House
DESCRIPTION:People of all ages are welcome to this FREE event! The day will include live music on our Grove Stage; craft vendors from throughout the region; a variety of yummy eats from food trucks\, and beer and wine by local producers. Appel Farm teaching artists will lead art making workshops for all ages\, and a few more surprises are in store!
URL:https://appelfarm.org/tribe-events/virtual-open-house/
LOCATION:New Jersey
CATEGORIES:Camp Tours
ATTACH;FMTTYPE=image/png:https://appelfarm.org/wp-content/uploads/2025/09/HEADING-USE-CAPS-ONLY-2.png
END:VEVENT
BEGIN:VEVENT
DTSTART;TZID=America/New_York:20251210T183000
DTEND;TZID=America/New_York:20251210T203000
DTSTAMP:20260420T042239
CREATED:20250907T004006Z
LAST-MODIFIED:20250907T004006Z
UID:9795-1765391400-1765398600@appelfarm.org
SUMMARY:Jewelry & Sip
DESCRIPTION:People of all ages are welcome to this FREE event! The day will include live music on our Grove Stage; craft vendors from throughout the region; a variety of yummy eats from food trucks\, and beer and wine by local producers. Appel Farm teaching artists will lead art making workshops for all ages\, and a few more surprises are in store!
URL:https://appelfarm.org/tribe-events/jewelry-sip/
LOCATION:Appel Farm Arts and Music Center\, 457 Shirley Rd\, Elmer\, New Jersey\, 08318\, United States
CATEGORIES:Arts Labs for Adults
ATTACH;FMTTYPE=image/png:https://appelfarm.org/wp-content/uploads/2025/09/jewelry-1.png
END:VEVENT
BEGIN:VEVENT
DTSTART;TZID=America/New_York:20251209T180000
DTEND;TZID=America/New_York:20251218T200000
DTSTAMP:20260420T042239
CREATED:20250910T184657Z
LAST-MODIFIED:20250910T184657Z
UID:9815-1765303200-1766088000@appelfarm.org
SUMMARY:Mosaic 4-Session Workshop
DESCRIPTION:People of all ages are welcome to this FREE event! The day will include live music on our Grove Stage; craft vendors from throughout the region; a variety of yummy eats from food trucks\, and beer and wine by local producers. Appel Farm teaching artists will lead art making workshops for all ages\, and a few more surprises are in store!
URL:https://appelfarm.org/tribe-events/mosaic-4-session-workshop/
LOCATION:Appel Farm Arts and Music Center\, 457 Shirley Rd\, Elmer\, New Jersey\, 08318\, United States
CATEGORIES:Arts Labs for Adults
ATTACH;FMTTYPE=image/png:https://appelfarm.org/wp-content/uploads/2025/09/mosaic.png
END:VEVENT
BEGIN:VEVENT
DTSTART;TZID=America/New_York:20251206T130000
DTEND;TZID=America/New_York:20251206T150000
DTSTAMP:20260420T042239
CREATED:20250904T153113Z
LAST-MODIFIED:20250904T153113Z
UID:9683-1765026000-1765033200@appelfarm.org
SUMMARY:December Camp Tour
DESCRIPTION:People of all ages are welcome to this FREE event! The day will include live music on our Grove Stage; craft vendors from throughout the region; a variety of yummy eats from food trucks\, and beer and wine by local producers. Appel Farm teaching artists will lead art making workshops for all ages\, and a few more surprises are in store!
URL:https://appelfarm.org/tribe-events/december-camp-tour/
LOCATION:New Jersey
CATEGORIES:Camp Tours
ATTACH;FMTTYPE=image/png:https://appelfarm.org/wp-content/uploads/2024/09/CAMP-TOUR-1.png
END:VEVENT
BEGIN:VEVENT
DTSTART;TZID=America/New_York:20251112T183000
DTEND;TZID=America/New_York:20251112T203000
DTSTAMP:20260420T042239
CREATED:20250910T184004Z
LAST-MODIFIED:20250910T184004Z
UID:9812-1762972200-1762979400@appelfarm.org
SUMMARY:Salsa Dance & Sip
DESCRIPTION:People of all ages are welcome to this FREE event! The day will include live music on our Grove Stage; craft vendors from throughout the region; a variety of yummy eats from food trucks\, and beer and wine by local producers. Appel Farm teaching artists will lead art making workshops for all ages\, and a few more surprises are in store!
URL:https://appelfarm.org/tribe-events/salsa-dance-sip/
LOCATION:Appel Farm Arts and Music Center\, 457 Shirley Rd\, Elmer\, New Jersey\, 08318\, United States
CATEGORIES:Arts Labs for Adults
ATTACH;FMTTYPE=image/png:https://appelfarm.org/wp-content/uploads/2025/09/salsa.png
END:VEVENT
BEGIN:VEVENT
DTSTART;TZID=America/New_York:20251108T143000
DTEND;TZID=America/New_York:20251108T163000
DTSTAMP:20260420T042239
CREATED:20250904T153134Z
LAST-MODIFIED:20250904T153134Z
UID:9680-1762612200-1762619400@appelfarm.org
SUMMARY:November Camp Tour
DESCRIPTION:People of all ages are welcome to this FREE event! The day will include live music on our Grove Stage; craft vendors from throughout the region; a variety of yummy eats from food trucks\, and beer and wine by local producers. Appel Farm teaching artists will lead art making workshops for all ages\, and a few more surprises are in store!
URL:https://appelfarm.org/tribe-events/november-camp-tour/
LOCATION:New Jersey
CATEGORIES:Camp Tours
ATTACH;FMTTYPE=image/png:https://appelfarm.org/wp-content/uploads/2024/08/CAMP-TOUR-1-5.png
END:VEVENT
BEGIN:VEVENT
DTSTART;TZID=America/New_York:20251025T140000
DTEND;TZID=America/New_York:20251025T180000
DTSTAMP:20260420T042239
CREATED:20250906T035145Z
LAST-MODIFIED:20250908T180041Z
UID:9731-1761400800-1761415200@appelfarm.org
SUMMARY:Artober Open House
DESCRIPTION:People of all ages are welcome to this FREE event! The day will include live music on our Grove Stage; craft vendors from throughout the region; a variety of yummy eats from food trucks\, and beer and wine by local producers. Appel Farm teaching artists will lead art making workshops for all ages\, and a few more surprises are in store!
URL:https://appelfarm.org/tribe-events/artober-open-house/
LOCATION:Appel Farm Arts and Music Center\, 457 Shirley Rd\, Elmer\, New Jersey\, 08318\, United States
ATTACH;FMTTYPE=image/jpeg:https://appelfarm.org/wp-content/uploads/2023/06/Artober-1-scaled.jpg
END:VEVENT
BEGIN:VEVENT
DTSTART;TZID=America/New_York:20251025T130000
DTEND;TZID=America/New_York:20251025T150000
DTSTAMP:20260420T042239
CREATED:20250904T135119Z
LAST-MODIFIED:20250904T152845Z
UID:9678-1761397200-1761404400@appelfarm.org
SUMMARY:October Camp Tour
DESCRIPTION:People of all ages are welcome to this FREE event! The day will include live music on our Grove Stage; craft vendors from throughout the region; a variety of yummy eats from food trucks\, and beer and wine by local producers. Appel Farm teaching artists will lead art making workshops for all ages\, and a few more surprises are in store!
URL:https://appelfarm.org/tribe-events/october-camp-tour/
LOCATION:New Jersey
CATEGORIES:Camp Tours
ATTACH;FMTTYPE=image/png:https://appelfarm.org/wp-content/uploads/2024/09/CAMP-TOUR-1-2.png
END:VEVENT
BEGIN:VEVENT
DTSTART;TZID=America/New_York:20251008T183000
DTEND;TZID=America/New_York:20251008T203000
DTSTAMP:20260420T042239
CREATED:20250910T182558Z
LAST-MODIFIED:20250910T183529Z
UID:9809-1759948200-1759955400@appelfarm.org
SUMMARY:Macrame & Sip
DESCRIPTION:People of all ages are welcome to this FREE event! The day will include live music on our Grove Stage; craft vendors from throughout the region; a variety of yummy eats from food trucks\, and beer and wine by local producers. Appel Farm teaching artists will lead art making workshops for all ages\, and a few more surprises are in store!
URL:https://appelfarm.org/tribe-events/macrame-sip/
LOCATION:Appel Farm Arts and Music Center\, 457 Shirley Rd\, Elmer\, New Jersey\, 08318\, United States
CATEGORIES:Arts Labs for Adults
ATTACH;FMTTYPE=image/jpeg:https://appelfarm.org/wp-content/uploads/2023/06/IMG_9471-e1735832132803.jpg
END:VEVENT
END:VCALENDAR